BEGIN:VCALENDAR
VERSION:2.0
PRODID:-//WCKiK - ECPv6.15.20//NONSGML v1.0//EN
CALSCALE:GREGORIAN
METHOD:PUBLISH
X-WR-CALNAME:WCKiK
X-ORIGINAL-URL:https://wckik.pl/wp
X-WR-CALDESC:Wydarzenia dla WCKiK
REFRESH-INTERVAL;VALUE=DURATION:PT1H
X-Robots-Tag:noindex
X-PUBLISHED-TTL:PT1H
BEGIN:VTIMEZONE
TZID:Europe/Warsaw
BEGIN:DAYLIGHT
TZOFFSETFROM:+0100
TZOFFSETTO:+0200
TZNAME:CEST
DTSTART:20250330T010000
END:DAYLIGHT
BEGIN:STANDARD
TZOFFSETFROM:+0200
TZOFFSETTO:+0100
TZNAME:CET
DTSTART:20251026T010000
END:STANDARD
BEGIN:DAYLIGHT
TZOFFSETFROM:+0100
TZOFFSETTO:+0200
TZNAME:CEST
DTSTART:20260329T010000
END:DAYLIGHT
BEGIN:STANDARD
TZOFFSETFROM:+0200
TZOFFSETTO:+0100
TZNAME:CET
DTSTART:20261025T010000
END:STANDARD
BEGIN:DAYLIGHT
TZOFFSETFROM:+0100
TZOFFSETTO:+0200
TZNAME:CEST
DTSTART:20270328T010000
END:DAYLIGHT
BEGIN:STANDARD
TZOFFSETFROM:+0200
TZOFFSETTO:+0100
TZNAME:CET
DTSTART:20271031T010000
END:STANDARD
END:VTIMEZONE
BEGIN:VEVENT
DTSTART;VALUE=DATE:20260323
DTEND;VALUE=DATE:20260324
DTSTAMP:20260421T213707
CREATED:20260224T100402Z
LAST-MODIFIED:20260224T100402Z
UID:8576-1774224000-1774310399@wckik.pl
SUMMARY:TS Gdańsk
DESCRIPTION:Akademia Marynarki Wojennej Ul. Jana Śmidowicza 69 81-127 Gdynia
URL:https://wckik.pl/wp/ekipa/ts-gdansk-7/
LOCATION:Akademia Marynarki Wojennej  Ul. Jana Śmidowicza 69 81-127 Gdynia
END:VEVENT
BEGIN:VEVENT
DTSTART;VALUE=DATE:20260324
DTEND;VALUE=DATE:20260325
DTSTAMP:20260421T213707
CREATED:20260224T100315Z
LAST-MODIFIED:20260224T100315Z
UID:8573-1774310400-1774396799@wckik.pl
SUMMARY:TS Gdańsk
DESCRIPTION:Politechnika Gdańska ul. Gabriela Narutowicza 11/12 80-233 Gdańsk
URL:https://wckik.pl/wp/ekipa/ts-gdansk-6/
LOCATION:Politechnika Gdańska ul. Gabriela Narutowicza 11/12 80-233 Gdańsk
END:VEVENT
BEGIN:VEVENT
DTSTART;VALUE=DATE:20260325
DTEND;VALUE=DATE:20260326
DTSTAMP:20260421T213707
CREATED:20260224T093258Z
LAST-MODIFIED:20260225T100217Z
UID:8528-1774396800-1774483199@wckik.pl
SUMMARY:ZM Warszawa
DESCRIPTION:Ministerstwo Polityki i Funduszy Regionalnych ul. Wspólna 2/4 00-926 Warszawa
URL:https://wckik.pl/wp/ekipa/zm-warszawa-13/
LOCATION:Ministerstwo Polityki i Funduszy Regionalnych ul. Wspólna 2/4 00-926 Warszawa
END:VEVENT
BEGIN:VEVENT
DTSTART;VALUE=DATE:20260325
DTEND;VALUE=DATE:20260326
DTSTAMP:20260421T213707
CREATED:20260224T101223Z
LAST-MODIFIED:20260316T084341Z
UID:8589-1774396800-1774483199@wckik.pl
SUMMARY:TS Kraków
DESCRIPTION:11 MBOT Kraków Rząska ul. Krakowska 1 30-901 Kraków
URL:https://wckik.pl/wp/ekipa/ts-krakow-6/
LOCATION:11 MBOT Kraków Rząska ul. Krakowska 1 30-901 Kraków
END:VEVENT
BEGIN:VEVENT
DTSTART;VALUE=DATE:20260325
DTEND;VALUE=DATE:20260326
DTSTAMP:20260421T213707
CREATED:20260224T105026Z
LAST-MODIFIED:20260224T105026Z
UID:8612-1774396800-1774483199@wckik.pl
SUMMARY:TS Wrocław
DESCRIPTION:Akademia Wojsk Lądowych imienia generała Tadeusza Kościuszki ul. Piotra Czajkowskiego 109\, 51-147 Wrocław (PZ)
URL:https://wckik.pl/wp/ekipa/ts-wroclaw-5/
LOCATION:Akademia Wojsk Lądowych imienia generała Tadeusza Kościuszki ul. Piotra Czajkowskiego 109\, 51-147 Wrocław
END:VEVENT
BEGIN:VEVENT
DTSTART;VALUE=DATE:20260325
DTEND;VALUE=DATE:20260326
DTSTAMP:20260421T213707
CREATED:20260227T092939Z
LAST-MODIFIED:20260227T092939Z
UID:8689-1774396800-1774483199@wckik.pl
SUMMARY:TS Bydgoszcz
DESCRIPTION:9 LO ul. Zofii Nałkowskiej 9\, 85-866 Bydgoszcz
URL:https://wckik.pl/wp/ekipa/ts-bydgoszcz-13/
LOCATION:9 LO ul. Zofii Nałkowskiej 9\, 85-866 Bydgoszcz
END:VEVENT
BEGIN:VEVENT
DTSTART;VALUE=DATE:20260326
DTEND;VALUE=DATE:20260327
DTSTAMP:20260421T213707
CREATED:20260224T093229Z
LAST-MODIFIED:20260224T093229Z
UID:8526-1774483200-1774569599@wckik.pl
SUMMARY:ZM Warszawa
DESCRIPTION:Wojskowa Akademia Techniczna – Warszawa\, ul. Kartezjusza 1C
URL:https://wckik.pl/wp/ekipa/zm-warszawa-12/
LOCATION:Wojskowa Akademia Techniczna – Warszawa\, ul. Kartezjusza 1C
END:VEVENT
BEGIN:VEVENT
DTSTART;VALUE=DATE:20260326
DTEND;VALUE=DATE:20260327
DTSTAMP:20260421T213707
CREATED:20260224T094313Z
LAST-MODIFIED:20260225T100454Z
UID:8541-1774483200-1774569599@wckik.pl
SUMMARY:TS Bydgoszcz
DESCRIPTION:12 WOG Toruń ul. Okólna 37 87-100 Toruń
URL:https://wckik.pl/wp/ekipa/ts-bydgoszcz-11/
LOCATION:12 WOG Toruń Okólna 37\, 87-100 Toruń
END:VEVENT
BEGIN:VEVENT
DTSTART;VALUE=DATE:20260326
DTEND;VALUE=DATE:20260327
DTSTAMP:20260421T213707
CREATED:20260224T095846Z
LAST-MODIFIED:20260224T095846Z
UID:8564-1774483200-1774569599@wckik.pl
SUMMARY:TS Ełk
DESCRIPTION:Giżycko Przychodnia – Nowy punkt poboru
URL:https://wckik.pl/wp/ekipa/ts-elk-14/
LOCATION:Giżycko Przychodnia – Nowy punkt poboru
END:VEVENT
BEGIN:VEVENT
DTSTART;VALUE=DATE:20260326
DTEND;VALUE=DATE:20260327
DTSTAMP:20260421T213707
CREATED:20260224T104432Z
LAST-MODIFIED:20260224T104432Z
UID:8600-1774483200-1774569599@wckik.pl
SUMMARY:TS Lublin
DESCRIPTION:4 DPSap Dęblin ul. Saperów 5
URL:https://wckik.pl/wp/ekipa/ts-lublin-7/
LOCATION:4 DPSap Dęblin ul. Saperów 5
END:VEVENT
BEGIN:VEVENT
DTSTART;VALUE=DATE:20260330
DTEND;VALUE=DATE:20260331
DTSTAMP:20260421T213707
CREATED:20260224T094552Z
LAST-MODIFIED:20260225T100423Z
UID:8544-1774828800-1774915199@wckik.pl
SUMMARY:TS Bydgoszcz
DESCRIPTION:1 Pomorska Brygada Logistyczna ul. Powstańców Warszawy 2 85-681 Bydgoszcz
URL:https://wckik.pl/wp/ekipa/ts-bydgoszcz-12/
LOCATION:1 Pomorska Brygada Logistyczna ul. Powstańców Warszawy 2 85-681 Bydgoszcz
END:VEVENT
END:VCALENDAR